BEGIN:VCALENDAR
VERSION:2.0
PRODID:spatie/icalendar-generator
DESCRIPTION:Events from 
X-WR-CALDESC:Events from 
REFRESH-INTERVAL;VALUE=DURATION:PT1440M
X-PUBLISHED-TTL:PT1440M
BEGIN:VTIMEZONE
TZID:Etc/GMT+0
BEGIN:STANDARD
DTSTART:20230227T093000Z
TZOFFSETFROM:+0000
TZOFFSETTO:+0000
END:STANDARD
END:VTIMEZONE
BEGIN:VTIMEZONE
TZID:UTC
BEGIN:STANDARD
DTSTART:20250724T003606Z
TZOFFSETFROM:+0000
TZOFFSETTO:+0000
END:STANDARD
END:VTIMEZONE
BEGIN:VEVENT
UID:14-14
DTSTAMP:20260420T003606Z
SUMMARY:Christmas Open House
LOCATION:
ORGANIZER;CN=Lehman Nursery:MAILTO:info@lehmannursery.com
DTSTART;TZID=Etc/GMT+0:20231124T093000
DTEND;TZID=Etc/GMT+0:20231125T170000
X-ALT-DESC;FMTTYPE=TEXT/HTML:Join us Friday and Saturday\, November 24th an
 d 25th for our Christmas Open House. There will be piles of cookies\, hot 
 chocolate and snacks to enjoy while you shop for unique gifts for your fri
 ends and family. We have an assortment of ornaments\, candles\, decoration
 s and handmade wool items from our very own sheep. We&amp;hellip\;
CATEGORIES:General
URL;VALUE=URI:https://www.lehmannursery.com/mc-events/christmas-open-house/
METHOD:PUBLISH
END:VEVENT
END:VCALENDAR