BEGIN:VCALENDAR
VERSION:2.0
PRODID:spatie/icalendar-generator
DESCRIPTION:Events from 
X-WR-CALDESC:Events from 
REFRESH-INTERVAL;VALUE=DURATION:PT1440M
X-PUBLISHED-TTL:PT1440M
BEGIN:VTIMEZONE
TZID:Etc/GMT+0
BEGIN:STANDARD
DTSTART:20221208T000000Z
TZOFFSETFROM:+0000
TZOFFSETTO:+0000
END:STANDARD
END:VTIMEZONE
BEGIN:VTIMEZONE
TZID:UTC
BEGIN:STANDARD
DTSTART:20250724T020751Z
TZOFFSETFROM:+0000
TZOFFSETTO:+0000
END:STANDARD
END:VTIMEZONE
BEGIN:VEVENT
UID:13-13
DTSTAMP:20260420T020751Z
SUMMARY:CLOSED for Labor Day
LOCATION:
ORGANIZER;CN=Lehman Nursery:MAILTO:info@lehmannursery.com
DTSTART;TZID=Etc/GMT+0;VALUE=DATE:20230904
DTEND;TZID=Etc/GMT+0;VALUE=DATE:20230905
X-ALT-DESC;FMTTYPE=TEXT/HTML:We will be CLOSED for Labor Day\, Monday\, Sep
 tember 4th.
CATEGORIES:General
URL;VALUE=URI:https://www.lehmannursery.com/mc-events/closed-for-labor-day/
METHOD:PUBLISH
END:VEVENT
END:VCALENDAR