BEGIN:VCALENDAR
VERSION:2.0
PRODID:spatie/icalendar-generator
DESCRIPTION:Events from 
X-WR-CALDESC:Events from 
REFRESH-INTERVAL;VALUE=DURATION:PT1440M
X-PUBLISHED-TTL:PT1440M
BEGIN:VTIMEZONE
TZID:Etc/GMT+0
BEGIN:STANDARD
DTSTART:20221122T110000Z
TZOFFSETFROM:+0000
TZOFFSETTO:+0000
END:STANDARD
END:VTIMEZONE
BEGIN:VTIMEZONE
TZID:UTC
BEGIN:STANDARD
DTSTART:20250724T040020Z
TZOFFSETFROM:+0000
TZOFFSETTO:+0000
END:STANDARD
END:VTIMEZONE
BEGIN:VEVENT
UID:12-12
DTSTAMP:20260420T040020Z
SUMMARY:Summer Spinning Day
LOCATION:
ORGANIZER;CN=Lehman Nursery:MAILTO:info@lehmannursery.com
DTSTART;TZID=Etc/GMT+0:20230819T110000
DTEND;TZID=Etc/GMT+0:20230819T140000
X-ALT-DESC;FMTTYPE=TEXT/HTML:Come for our Summer Spinning Day! Bring your s
 pinning wheel\, drop spindle\, needle felting or other fiber project and e
 njoy some \"crafty\" conversation with others. Want to learn to spin? Stop
  by! We'll have a wheel or two setup so you can try it out. Light lunch wi
 ll be provided.
CATEGORIES:General
URL;VALUE=URI:https://www.lehmannursery.com/mc-events/summer-spinning-day/
METHOD:PUBLISH
END:VEVENT
END:VCALENDAR